BEGIN:VCALENDAR
VERSION:2.0
PRODID:-//Movida Cultural y Holística - ECPv6.15.20//NONSGML v1.0//EN
CALSCALE:GREGORIAN
METHOD:PUBLISH
X-WR-CALNAME:Movida Cultural y Holística
X-ORIGINAL-URL:https://movidaculturalyholistica.com.ar
X-WR-CALDESC:Eventos para Movida Cultural y Holística
REFRESH-INTERVAL;VALUE=DURATION:PT1H
X-Robots-Tag:noindex
X-PUBLISHED-TTL:PT1H
BEGIN:VTIMEZONE
TZID:UTC
BEGIN:STANDARD
TZOFFSETFROM:+0000
TZOFFSETTO:+0000
TZNAME:UTC
DTSTART:20240101T000000
END:STANDARD
END:VTIMEZONE
BEGIN:VEVENT
DTSTART;TZID=UTC:20250731T210000
DTEND;TZID=UTC:20250731T220000
DTSTAMP:20260425T110219
CREATED:20250726T160520Z
LAST-MODIFIED:20250726T160520Z
UID:2068-1753995600-1753999200@movidaculturalyholistica.com.ar
SUMMARY:✨ Cerramos julio con broche de oro ✨
DESCRIPTION:Este Jueves 31 a las 21 hs\, viví una charla imperdible en vivo por Instagram junto a dos seres que vibran muy alto: Dirce y Pacha 🌿💫 \n💚 Ellos llegan con toda su sabiduría\, sensibilidad y conexión para compartir un encuentro lleno de magia\, consciencia y amor por la vida. \n🌕 Hablaremos de caminos espirituales\, vínculos sagrados\, procesos internos y cómo sostener la luz en tiempos de cambio. \n🌟 Si sentís que algo en vos está despertando… esta charla es para vos.🌀 Si buscás inspiración\, verdad y comunidad… esta charla también es para vos. \n💫 Y como hermoso recordatorio: con Dirce y Pacha dimos el primer paso de la Movida en el evento presencial del 21 de junio.¡Volvemos a encontrarnos para seguir expandiendo juntos! \n🗓 Miércoles 31 de julio – 21 hs📍 En vivo por Instagram [@lamovidaculturalyholistica] \n💬 Comentá\, compartí y agendalo… porque no te lo podés perder.Dirce y Pacha cierran julio con el corazón abierto… ¡y vos estás invitad@!
URL:https://movidaculturalyholistica.com.ar/evento/%e2%9c%a8-cerramos-julio-con-broche-de-oro-%e2%9c%a8/
LOCATION:SANTA FE
CATEGORIES:ARMONIA INTERIOR,MOVIDA CULTURAL Y HOLISTICA
END:VEVENT
END:VCALENDAR