BEGIN:VCALENDAR
VERSION:2.0
PRODID:-//Movida Cultural y Holística - ECPv6.15.20//NONSGML v1.0//EN
CALSCALE:GREGORIAN
METHOD:PUBLISH
X-WR-CALNAME:Movida Cultural y Holística
X-ORIGINAL-URL:https://movidaculturalyholistica.com.ar
X-WR-CALDESC:Eventos para Movida Cultural y Holística
REFRESH-INTERVAL;VALUE=DURATION:PT1H
X-Robots-Tag:noindex
X-PUBLISHED-TTL:PT1H
BEGIN:VTIMEZONE
TZID:UTC
BEGIN:STANDARD
TZOFFSETFROM:+0000
TZOFFSETTO:+0000
TZNAME:UTC
DTSTART:20240101T000000
END:STANDARD
END:VTIMEZONE
BEGIN:VEVENT
DTSTART;TZID=UTC:20250807T210000
DTEND;TZID=UTC:20250807T220000
DTSTAMP:20260425T122102
CREATED:20250811T184858Z
LAST-MODIFIED:20250811T184858Z
UID:2359-1754600400-1754604000@movidaculturalyholistica.com.ar
SUMMARY:**Lo que el alma ve: El don de la videncia con Mili Muñoz**
DESCRIPTION:¿Alguna vez sentiste que hay algo más allá de lo visible? ¿Querés conectarte con mensajes que tu alma está intentando mostrarte? \nTe invitamos a descubrir **el don de la videncia** junto a **Mili Muñoz**\, una guía espiritual que revela lo que el alma percibe más allá de los sentidos comunes. \nEn esta charla especial vas a: \n* Explorar el mundo sutil y los mensajes que llegan desde el alma.\n* Comprender cómo la videncia puede ayudarte a tomar decisiones con mayor claridad.\n* Aprender a escuchar tu intuición y potenciar tu percepción interna.\n* Conectar con una energía sanadora y transformadora que abre caminos nuevos. \nDejá que Mili te acompañe a descubrir la magia que hay en vos y en el universo. \n  \n¡Animate a abrir tu mente y tu corazón para recibir lo que el alma quiere mostrarte!
URL:https://movidaculturalyholistica.com.ar/evento/lo-que-el-alma-ve-el-don-de-la-videncia-con-mili-munoz/
LOCATION:SANTA FE
CATEGORIES:MOVIDA CULTURAL Y HOLISTICA,VIDENCIA
ATTACH;FMTTYPE=image/jpeg:https://movidaculturalyholistica.com.ar/wp-content/uploads/2025/08/c245959c-cfc3-4566-9be0-907f1a9f785e.jpg
END:VEVENT
END:VCALENDAR