BEGIN:VCALENDAR
VERSION:2.0
PRODID:-//Movida Cultural y Holística - ECPv6.15.20//NONSGML v1.0//EN
CALSCALE:GREGORIAN
METHOD:PUBLISH
X-WR-CALNAME:Movida Cultural y Holística
X-ORIGINAL-URL:https://movidaculturalyholistica.com.ar
X-WR-CALDESC:Eventos para Movida Cultural y Holística
REFRESH-INTERVAL;VALUE=DURATION:PT1H
X-Robots-Tag:noindex
X-PUBLISHED-TTL:PT1H
BEGIN:VTIMEZONE
TZID:UTC
BEGIN:STANDARD
TZOFFSETFROM:+0000
TZOFFSETTO:+0000
TZNAME:UTC
DTSTART:20240101T000000
END:STANDARD
END:VTIMEZONE
BEGIN:VEVENT
DTSTART;TZID=UTC:20250724T210000
DTEND;TZID=UTC:20250724T220000
DTSTAMP:20260424T214709
CREATED:20250709T221704Z
LAST-MODIFIED:20250709T221704Z
UID:1996-1753390800-1753394400@movidaculturalyholistica.com.ar
SUMMARY:🌿✨ MI CAMINO CON LAS PLANTAS
DESCRIPTION:Saberes vivos para sanarse y cuidar el planeta📅 JUEVESPL 24 de julio – 21 hs📲 EN VIVO por Instagram @movidaculturalyholistica \nTe invitamos a un encuentro profundo y sanador con María Teresa Caillet Bois\, mujer medicina\, maestra y guardiana de los saberes ancestrales del reino vegetal. \n💚 Vamos a conversar sobre:🍃 La conexión con las plantas como seres vivos🌱 El uso consciente de sus propiedades para sanar cuerpo\, mente y espíritu🌍 El rol sagrado que tienen en la protección del planeta y en nuestra evolución \nUna noche para abrir el corazón\, recordar lo que la tierra nos susurra y reconectar con el poder sanador de la naturaleza. \n🌸 Sumate a esta charla que promete ser semilla\, medicina y despertar.#PlantasSagradas #SaberesAncestrales #SanaciónNatural #MaríaTeresaCailletBois #MovidaCulturalYHolística #CulturaConsciente #VivoPorInstagram
URL:https://movidaculturalyholistica.com.ar/evento/%f0%9f%8c%bf%e2%9c%a8-mi-camino-con-las-plantas/
CATEGORIES:MOVIDA CULTURAL Y HOLISTICA,PLANETA,PLANTAS,SABERES
END:VEVENT
END:VCALENDAR