BEGIN:VCALENDAR
VERSION:2.0
PRODID:-//Movida Cultural y Holística - ECPv6.15.20//NONSGML v1.0//EN
CALSCALE:GREGORIAN
METHOD:PUBLISH
X-WR-CALNAME:Movida Cultural y Holística
X-ORIGINAL-URL:https://movidaculturalyholistica.com.ar
X-WR-CALDESC:Eventos para Movida Cultural y Holística
REFRESH-INTERVAL;VALUE=DURATION:PT1H
X-Robots-Tag:noindex
X-PUBLISHED-TTL:PT1H
BEGIN:VTIMEZONE
TZID:UTC
BEGIN:STANDARD
TZOFFSETFROM:+0000
TZOFFSETTO:+0000
TZNAME:UTC
DTSTART:20240101T000000
END:STANDARD
END:VTIMEZONE
BEGIN:VEVENT
DTSTART;TZID=UTC:20250826T200000
DTEND;TZID=UTC:20250826T210000
DTSTAMP:20260425T134606
CREATED:20250819T004342Z
LAST-MODIFIED:20250819T004823Z
UID:2432-1756238400-1756242000@movidaculturalyholistica.com.ar
SUMMARY:**“Volver al origen con caballos maestros”** 🐎💫
DESCRIPTION:🐴✨ **Charla en vivo de La Movida Cultural y Holística** ✨🐴 \nEl **martes 26 de agosto a las 20 hs** viví una experiencia transformadora junto a **Paola Capone**:\n**“Volver al origen con caballos maestros”** 🐎💫 \n🔹 Los caballos son seres sensibles que nos conectan con nuestra esencia.\n🔹 A través de su mirada y energía\, nos enseñan a sanar\, liberar y regresar a lo auténtico.\n🔹 Un encuentro para reconectar con la naturaleza\, con tu ser interior y con la sabiduría ancestral que estos animales transmiten. \n📲 En vivo por Instagram: **@movidaculturalyholistica** \n👉 Sumate y descubrí el poder sanador de los caballos como verdaderos maestros de vida.
URL:https://movidaculturalyholistica.com.ar/evento/volver-al-origen-con-caballos-maestros-%f0%9f%90%8e%f0%9f%92%ab/
LOCATION:SANTA FE
CATEGORIES:CABALLOS MAESTROS,MOVIDA CULTURAL Y HOLISTICA
ATTACH;FMTTYPE=image/jpeg:https://movidaculturalyholistica.com.ar/wp-content/uploads/2025/08/eeec74c8-a07a-474e-9f98-5c8bc92d84bb.jpg
END:VEVENT
BEGIN:VEVENT
DTSTART;TZID=UTC:20250828T210000
DTEND;TZID=UTC:20250828T220000
DTSTAMP:20260425T134606
CREATED:20250819T010759Z
LAST-MODIFIED:20250819T010759Z
UID:2438-1756414800-1756418400@movidaculturalyholistica.com.ar
SUMMARY:*"LA SOBERANÍA DEL SER"*
DESCRIPTION:✨ **CIERRE DE AGOSTO EN LA MOVIDA** ✨ \nEste mes vivimos momentos únicos: hasta dimos un **salto cuántico a México** y abrimos caminos en ese hermoso país 🌎💜.\nY ahora lo cerramos con una invitación muy especial: \n📌 **Charla en vivo por Instagram**\n🎙️ Con **Karina Mondino**\n📅 **Jueves 28/8 – 21 hs**\n📖 Tema: *”La Soberanía del Ser”* \nUna charla profunda\, inspiradora y transformadora\, para conectar con tu esencia y recuperar tu poder interior 🌱💫. \n👉 Sumate en vivo desde nuestro Instagram y compartí con nosotros este cierre de mes que será inolvidable.\n¡**Los esperamos!** \n 
URL:https://movidaculturalyholistica.com.ar/evento/la-soberania-del-ser/
LOCATION:SANTA FE
CATEGORIES:MOVIDA CULTURAL Y HOLISTICA,SOBERANIA DEL SER
ATTACH;FMTTYPE=image/jpeg:https://movidaculturalyholistica.com.ar/wp-content/uploads/2025/08/ChatGPT-Image-18-ago-2025-22_01_41.png
END:VEVENT
BEGIN:VEVENT
DTSTART;TZID=UTC:20250902T200000
DTEND;TZID=UTC:20250902T210000
DTSTAMP:20260425T134606
CREATED:20250901T195710Z
LAST-MODIFIED:20250901T195710Z
UID:2464-1756843200-1756846800@movidaculturalyholistica.com.ar
SUMMARY:✨🔮 **Astrología y Humor con Cora Negroni** 🌙😄
DESCRIPTION:La Movida Cultural y Holística te invita a una charla imperdible junto a **Cora Negroni**\, donde la **astrología** se encuentra con la **risa** para descubrirnos desde otro lugar. \n📅 **Martes 2 de septiembre**\n🕗 **20:00 hs**\n📲 En vivo por **Instagram de la Movida** \nUna propuesta distinta\, divertida y profunda a la vez: mirar el cielo\, los planetas y nuestro propio mapa desde la frescura del humor. Porque entendernos también puede ser un juego\, una carcajada y un aprendizaje compartido. \n💫 Sumate a este encuentro único y dejate llevar por la magia de las estrellas… ¡y de las sonrisas! \n👉 Te esperamos en [@movidaculturalyholistica](https://instagram.com/movidaculturalyholistica).
URL:https://movidaculturalyholistica.com.ar/evento/%e2%9c%a8%f0%9f%94%ae-astrologia-y-humor-con-cora-negroni-%f0%9f%8c%99%f0%9f%98%84/
LOCATION:SANTA FE
CATEGORIES:ASTROLOGIA,HUMOR,MOVIDA CULTURAL Y HOLISTICA
ATTACH;FMTTYPE=image/jpeg:https://movidaculturalyholistica.com.ar/wp-content/uploads/2025/09/a1bf64d7-edbc-4cbb-8acf-9ce2ad858d4e.jpg
END:VEVENT
BEGIN:VEVENT
DTSTART;TZID=UTC:20250904T210000
DTEND;TZID=UTC:20250904T220000
DTSTAMP:20260425T134606
CREATED:20250916T182401Z
LAST-MODIFIED:20250916T182401Z
UID:2483-1757019600-1757023200@movidaculturalyholistica.com.ar
SUMMARY:🌙 **El Camino de la Fuente – Despertando la Priscateología** ✨
DESCRIPTION:La **Movida Cultural y Holística** te invita a un encuentro único donde abrimos la puerta a un conocimiento ancestral y transformador: la **Priscateología**\, la ciencia espiritual que nos conecta con los orígenes de la sabiduría universal. \n🔮 **Invitado especial:** *Jazael Lozada* 🇲🇽\nUn buscador y transmisor de saberes que nos guiará en este viaje hacia la Fuente\, recordándonos que en nuestro interior habita la llave de la evolución consciente. \n📲 **En vivo por Instagram**\n🗓️ Jueves 4 de septiembre\n⏰ 21 hs (Argentina) \n✨ Una charla para quienes sienten el llamado de despertar\, reencontrarse con lo esencial y expandir su mirada espiritual. \n🔗 Sumate y descubrí cómo la Priscateología puede iluminar tu propio camino de transformación. \n👉 Seguinos en Instagram y activá el recordatorio para no perderte esta experiencia.
URL:https://movidaculturalyholistica.com.ar/evento/%f0%9f%8c%99-el-camino-de-la-fuente-despertando-la-priscateologia-%e2%9c%a8/
LOCATION:SANTA FE
CATEGORIES:MOVIDA CULTURAL Y HOLISTICA,PRISCATEOLOGIA
ATTACH;FMTTYPE=image/jpeg:https://movidaculturalyholistica.com.ar/wp-content/uploads/2025/09/7cf23e41-018b-46eb-9ac4-d6d67061b7c7.jpg
END:VEVENT
BEGIN:VEVENT
DTSTART;TZID=UTC:20250909T160000
DTEND;TZID=UTC:20250909T170000
DTSTAMP:20260425T134606
CREATED:20250916T183001Z
LAST-MODIFIED:20250916T183001Z
UID:2487-1757433600-1757437200@movidaculturalyholistica.com.ar
SUMMARY:🌟 **Charla en Vivo: Alquimia de Vida – Movimiento Evolutivo** 🌟
DESCRIPTION:La **Movida Cultural y Holística** te invita a una experiencia transformadora junto a la **Dra. Silvia Garabote**\, reconocida profesional y referente en el campo de la espiritualidad y el desarrollo humano. \n✨ En esta charla exploraremos la **Alquimia de Vida**\, un movimiento evolutivo que nos invita a transformar lo cotidiano en aprendizaje\, a descubrir nuevas formas de conexión con nosotros mismos y a despertar la conciencia para vivir con mayor plenitud. \n📅 **Fecha:** Martes 9 de septiembre\n⏰ **Horario:** 16 hs Argentina · 21 hs España\n📲 **En vivo por Instagram** de la Movida Cultural y Holística \nUn encuentro profundo\, pensado para quienes buscan herramientas de evolución personal y colectiva\, y desean sumarse a un camino de cambio y expansión interior. \n👉 Seguí nuestra cuenta en Instagram y activá la notificación para ser parte de esta experiencia única.
URL:https://movidaculturalyholistica.com.ar/evento/%f0%9f%8c%9f-charla-en-vivo-alquimia-de-vida-movimiento-evolutivo-%f0%9f%8c%9f/
LOCATION:SANTA FE
CATEGORIES:ALQUIMIA DE VIDA,BIODANZA,MOVIDA CULTURAL Y HOLISTICA
ATTACH;FMTTYPE=image/jpeg:https://movidaculturalyholistica.com.ar/wp-content/uploads/2025/09/5a0d815c-b39d-4a96-89ff-e51e9ef03b03.jpg
END:VEVENT
BEGIN:VEVENT
DTSTART;TZID=UTC:20250911T170000
DTEND;TZID=UTC:20250911T180000
DTSTAMP:20260425T134606
CREATED:20250916T183328Z
LAST-MODIFIED:20250916T183328Z
UID:2493-1757610000-1757613600@movidaculturalyholistica.com.ar
SUMMARY:🌟 **Charla en Vivo: Despertar de la Kundalini & Sabiduría del Yoga** 🌟
DESCRIPTION:La **Movida Cultural y Holística** te invita a un encuentro transformador junto a **Andrea Guarna**\, donde exploraremos la energía vital que habita en cada uno de nosotros y el legado milenario del yoga como camino de conciencia. \n✨ En esta charla descubriremos:\n🔹 Qué significa el **despertar de la Kundalini**.\n🔹 Cómo la sabiduría del yoga puede guiarnos en nuestro proceso de evolución personal.\n🔹 Herramientas prácticas para conectar cuerpo\, mente y espíritu. \n📅 **Fecha:** Jueves 11 de septiembre\n⏰ **Horario:** 17 hs (Argentina) · 22 hs (España)\n📲 **En vivo por Instagram** [@movidaculturalyholistica](https://instagram.com/movidaculturalyholistica) \nUna oportunidad única para quienes buscan expandir su energía\, abrir su conciencia y caminar hacia una vida más plena y armónica. \n👉 Sumate a la transmisión y viví esta experiencia en comunidad. \n— \n¿Querés que te lo prepare también en **formato breve tipo agenda/noticia cultural** para poner en tu portal barrial\, así queda como nota de difusión?
URL:https://movidaculturalyholistica.com.ar/evento/%f0%9f%8c%9f-charla-en-vivo-despertar-de-la-kundalini-sabiduria-del-yoga-%f0%9f%8c%9f/
LOCATION:SANTA FE
CATEGORIES:KUNDALINI,MOVIDA CULTURAL Y HOLISTICA,YOGA
ATTACH;FMTTYPE=image/jpeg:https://movidaculturalyholistica.com.ar/wp-content/uploads/2025/09/4abdff42-ceaf-44a0-886a-939ed5e4a09e.jpg
END:VEVENT
BEGIN:VEVENT
DTSTART;TZID=UTC:20250916T200000
DTEND;TZID=UTC:20250916T210000
DTSTAMP:20260425T134606
CREATED:20250916T184003Z
LAST-MODIFIED:20250916T184003Z
UID:2496-1758052800-1758056400@movidaculturalyholistica.com.ar
SUMMARY:## 🌸 Charla en Vivo – Nacimientos Holísticos
DESCRIPTION:La **Movida Cultural y Holística** te invita a una experiencia única en Instagram: \n✨ **Nacimientos Holísticos**\nUna conversación profunda y consciente con **Noelia Persichini** \n📅 **Martes 16 de septiembre**\n🕗 **20:00 hs (Argentina)**\n📲 En vivo por [@movidaculturalyholistica](https://www.instagram.com/movidaculturalyholistica) \nEn esta charla exploraremos cómo el nacimiento puede vivirse desde el **amor\, la conciencia y la conexión espiritual**.\nUn espacio para reflexionar\, aprender y abrirnos a nuevas formas de entender el inicio de la vida. \n💫 **Sumate y descubrí cómo la experiencia del nacimiento puede transformar tu mirada sobre la vida misma.**
URL:https://movidaculturalyholistica.com.ar/evento/%f0%9f%8c%b8-charla-en-vivo-nacimientos-holisticos/
LOCATION:SANTA FE
CATEGORIES:MOVIDA CULTURAL Y HOLISTICA,NACIMIENTOS HOLISTICOS
ATTACH;FMTTYPE=image/jpeg:https://movidaculturalyholistica.com.ar/wp-content/uploads/2025/09/a1437505-504a-4d80-9a3b-e06149145d31.jpg
END:VEVENT
BEGIN:VEVENT
DTSTART;TZID=UTC:20250920T140000
DTEND;TZID=UTC:20250920T170000
DTSTAMP:20260425T134606
CREATED:20250901T203930Z
LAST-MODIFIED:20250901T205051Z
UID:2476-1758376800-1758387600@movidaculturalyholistica.com.ar
SUMMARY:🌟 La Movida presenta su 1er Curso Presencial: con Paola Capone y los Caballos Maestros 🌟
DESCRIPTION:En la Movida Cultural y Holística seguimos creciendo\, y ahora damos un paso más grande: abrimos el primer curso oficial de la mano de Paola Capone y los Caballos Maestros . \nLos caballos son espejos del alma. Con su sensibilidad única nos muestran que nuestras sombras también son parte de nuestra luz. Ellos reflejan aquello que necesitamos ver para poder sanar\, transformar y evolucionar. \nEste curso es una experiencia profunda de conexión\, conciencia y autodescubrimiento\, donde cada encuentro con los Caballos Maestros se convierte en una guía hacia tu verdadera esencia. \n Una vivencia que combina sabiduría ancestral\, trabajo personal y la magia del vínculo con los caballos.\n Un camino para abrazar tus luces y sombras.\n Una oportunidad de transformación única en la Movida. \n Para más info y reservar tu lugar:\nEscribinos por privado a La Movida o al +54 9 294 4247182 (hablá con Cynthia). \n Animate a vivir esta experiencia… los caballos te están esperando. \nhttps://movidaculturalyholistica.com.ar/wp-content/uploads/2025/09/f32436ac-8255-4a34-8d71-49d95e1ca54d.mp4
URL:https://movidaculturalyholistica.com.ar/evento/%f0%9f%8c%9f-la-movida-presenta-su-1er-curso-presencial-con-paola-capone-y-los-caballos-maestros-%f0%9f%8c%9f/
LOCATION:PUEBLO ESTHER\, PUEBLO ESTHER\, SANTA FE\, Argentina
CATEGORIES:CABALLOS MAESTROS,CURSOS/TALLERES,MOVIDA CULTURAL Y HOLISTICA
ATTACH;FMTTYPE=image/jpeg:https://s.w.org/images/core/emoji/16.0.1/svg/2728.svg
ORGANIZER;CN="MOVIDA CULTURAL Y HOLISTICA":MAILTO:movidaculturalyholistica@gmail.com
END:VEVENT
BEGIN:VEVENT
DTSTART;TZID=UTC:20260321T110000
DTEND;TZID=UTC:20260321T200000
DTSTAMP:20260425T134606
CREATED:20260129T160859Z
LAST-MODIFIED:20260129T160859Z
UID:2540-1774090800-1774123200@movidaculturalyholistica.com.ar
SUMMARY:SEMILLA llega a Funes: el 21 de marzo se activa un nuevo modo de encontrarnos
DESCRIPTION:El próximo 21 de marzo\, Funes será el punto de partida de algo distinto. Llega SEMILLA\, un nuevo concepto creado por la Movida Cultural y Holística\, pensado como un espacio de encuentro consciente donde las personas\, los proyectos y las ideas se conectan para crecer. \nSEMILLA nace con una intención clara: volver al origen. Al encuentro real\, a la experiencia compartida\, a la cultura con sentido. En un contexto donde abundan las propuestas repetidas\, SEMILLA propone bajar un cambio y participar de algo vivo\, cuidado y con propósito. \nNo se trata de circular sin rumbo ni de acumular estímulos.\nEn SEMILLA todo tiene un porqué. \nCada propuesta —artística\, cultural\, terapéutica o comercial— atraviesa un proceso de curaduría consciente\, para que lo que suceda durante la jornada tenga coherencia\, profundidad y deje huella. Nada está librado al azar: cada presencia suma al relato común. \nDurante SEMILLA\, el público podrá encontrarse con: \n\nexpresiones artísticas y música en diálogo con la conciencia\nespacios de bienestar y prácticas holísticas\ncharlas breves que inspiran y despiertan preguntas\nproyectos y marcas alineadas con valores reales\n\nSEMILLA funciona como ESPACIO Semilla: un punto donde se activan vínculos\, se generan redes y se fortalece la comunidad local. Lo que sucede ese día no termina cuando finaliza la experiencia. Al contrario: ahí comienza.
URL:https://movidaculturalyholistica.com.ar/evento/semilla-llega-a-funes-el-21-de-marzo-se-activa-un-nuevo-modo-de-encontrarnos/
LOCATION:funes\, FUNES\, SANTA FE\, Argentina
CATEGORIES:MOVIDA CULTURAL Y HOLISTICA
ATTACH;FMTTYPE=image/jpeg:https://movidaculturalyholistica.com.ar/wp-content/uploads/2026/01/047a8c25-e25d-4cc6-8efc-1243547e8d25.jpg
ORGANIZER;CN="MOVIDA CULTURAL Y HOLISTICA":MAILTO:movidaculturalyholistica@gmail.com
END:VEVENT
BEGIN:VEVENT
DTSTART;VALUE=DATE:20260328
DTEND;VALUE=DATE:20260329
DTSTAMP:20260425T134606
CREATED:20260324T151919Z
LAST-MODIFIED:20260324T152847Z
UID:2565-1774656000-1774742399@movidaculturalyholistica.com.ar
SUMMARY:SEMILLA en Funes: un día para entrar distinto… y salir transformado
DESCRIPTION:El próximo 28 de marzo\, la ciudad de Funes vuelve a latir al ritmo de SEMILLA\, una propuesta que invita a salir de lo cotidiano y sumergirse en una jornada de experiencias reales\, movimiento y conexión. \nDesde las 11 hasta las 20 hs\, el Espacio Agalma se transforma en un punto de encuentro para quienes buscan algo más que un plan: un momento para reconectar con uno mismo\, con otros y con lo esencial. \nSEMILLA no es un evento más. Es una vivencia en constante movimiento\, donde cada persona llega de una manera… y se va distinta. Durante toda la jornada habrá propuestas pensadas para disfrutar\, explorar y compartir en un entorno natural\, cálido y consciente. \nY cuando cae el sol\, la magia continúa: al atardecer\, los participantes se reúnen alrededor del fuego\, en un cierre que invita a bajar\, integrar y celebrar lo vivido. \nCon entrada libre y gratuita\, es un plan ideal para venir en familia\, con amigos o incluso solo —porque acá nadie se queda afuera—. Solo hace falta traer mate\, reposera y ganas de vivir algo diferente. \nSEMILLA es ese espacio donde algo se enciende. Y después… ya no vuelve a ser igual.
URL:https://movidaculturalyholistica.com.ar/evento/semilla-en-funes-un-dia-para-entrar-distinto-y-salir-transformado/
LOCATION:funes\, FUNES\, SANTA FE\, Argentina
CATEGORIES:SEMILLA
ATTACH;FMTTYPE=image/jpeg:https://movidaculturalyholistica.com.ar/wp-content/uploads/2026/03/ChatGPT-Image-24-mar-2026-12_11_02-p.m.png
ORGANIZER;CN="MOVIDA CULTURAL Y HOLISTICA":MAILTO:movidaculturalyholistica@gmail.com
END:VEVENT
END:VCALENDAR