BEGIN:VCALENDAR
VERSION:2.0
PRODID:-//Movida Cultural y Holística - ECPv6.15.20//NONSGML v1.0//EN
CALSCALE:GREGORIAN
METHOD:PUBLISH
X-ORIGINAL-URL:https://movidaculturalyholistica.com.ar
X-WR-CALDESC:Eventos para Movida Cultural y Holística
REFRESH-INTERVAL;VALUE=DURATION:PT1H
X-Robots-Tag:noindex
X-PUBLISHED-TTL:PT1H
BEGIN:VTIMEZONE
TZID:UTC
BEGIN:STANDARD
TZOFFSETFROM:+0000
TZOFFSETTO:+0000
TZNAME:UTC
DTSTART:20240101T000000
END:STANDARD
END:VTIMEZONE
BEGIN:VEVENT
DTSTART;VALUE=DATE:20250621
DTEND;VALUE=DATE:20250622
DTSTAMP:20260425T122616
CREATED:20250610T140721Z
LAST-MODIFIED:20250612T010850Z
UID:1050-1750464000-1750550399@movidaculturalyholistica.com.ar
SUMMARY:🌿 Sintonizá con tu Frecuencia
DESCRIPTION:Una pausa para volver a tu esencia Desde la Movida Cultural y Holística de Roldán y Alrededores\, te invitamos a vivir una experiencia única\, una verdadera pausa en tu camino\, pensada para acompañar tus procesos personales. \nSalir del estrés y la ansiedad que provocan nuestros pensamientos y emociones\, evitando así el malestar físico\, es nuestro principal propósito. \nCuando armonizamos\, vamos activando nuestro verdadero poder\, equilibrando la energía mente\, cuerpo y alma\, vibrando en coherencia con quienes realmente somos. \n Esta experiencia es una invitación a volver a tu esencia\, a encontrarte con vos mismo\, a descubrir —o confirmar— el camino de tu alma. \nLo haremos a través de: \n Meditaciones con sonidos de cuencos de cuarzo y tibetanos \n Equilibrio de centros energéticos con Reiki \n Armonización con diapasones \n Conexión con el dispositivo de Energía Escalar \n Ejercicios grupales para integrar lo vivido \n Sábado 21 de junio – IBARLUCEA Y DALAI LAMAS -TIERRA DE SUEÑOS 2- ROLDAN. \n Recepción: 13 hs | Inicio puntual: 13:30 hs \n Traé: \nRopa cómoda Mat\, colchoneta o manta para recostarte \nAbrigo para la meditación \nBotella para hidratarte \nAlgo rico para compartir en la merienda \nY sobre todo: ganas de sentir paz interior \n Colaboración amorosa: $7.000 \nTe esperamos con el corazón abierto para compartir esta vivencia transformadora. \nCon amor\, Dirce\, Pacha y la Movida Cultural y Holística. \nHabla con Cynthia para ENTRADAS Y Mapita del lugar / \nWHATSAPP:https://wa.link/qftbbe \nCOMUNICATE AHI!!!!  \nCONTACTOPlease enable JavaScript in your browser to complete this form.Please enable JavaScript in your browser to complete this form.Nombre *E-mail *Comentario o Mensaje *EmailEnviar mensaje
URL:https://movidaculturalyholistica.com.ar/evento/%f0%9f%8c%bf-sintoniza-con-tu-frecuencia/
LOCATION:ROLDAN\, En breve te enterás.\, ROLDAN\, SANTA FE\, 2134\, Argentina
CATEGORIES:ARMONIA INTERNA,MOVIDA CULTURAL Y HOLISTICA
ATTACH;FMTTYPE=image/webp:https://movidaculturalyholistica.com.ar/wp-content/uploads/2025/06/VENTA-1RA-EXPERIENCIA-ROLDAN.webp
ORGANIZER;CN="MOVIDA CULTURAL Y HOLISTICA":MAILTO:movidaculturalyholistica@gmail.com
END:VEVENT
END:VCALENDAR