BEGIN:VCALENDAR
VERSION:2.0
PRODID:-//Movida Cultural y Holística - ECPv6.15.20//NONSGML v1.0//EN
CALSCALE:GREGORIAN
METHOD:PUBLISH
X-WR-CALNAME:Movida Cultural y Holística
X-ORIGINAL-URL:https://movidaculturalyholistica.com.ar
X-WR-CALDESC:Eventos para Movida Cultural y Holística
REFRESH-INTERVAL;VALUE=DURATION:PT1H
X-Robots-Tag:noindex
X-PUBLISHED-TTL:PT1H
BEGIN:VTIMEZONE
TZID:UTC
BEGIN:STANDARD
TZOFFSETFROM:+0000
TZOFFSETTO:+0000
TZNAME:UTC
DTSTART:20240101T000000
END:STANDARD
END:VTIMEZONE
BEGIN:VEVENT
DTSTART;VALUE=DATE:20250701
DTEND;VALUE=DATE:20250702
DTSTAMP:20260425T075619
CREATED:20250630T141147Z
LAST-MODIFIED:20250630T141825Z
UID:1952-1751328000-1751414399@movidaculturalyholistica.com.ar
SUMMARY:🌟 ¡Convocatoria abierta para la Feria Holística en Movimiento – JULIO! 🌟
DESCRIPTION:Si sos terapeuta\, emprendedor o parte del mundo holístico y consciente… ¡esta propuesta es para vos! \nEstamos organizando nuevas paradas de esta experiencia itinerante que recorre distintos espacios llevando magia\, sabiduría y conexión. Y en julio comenzamos con todo.  \n Si querés ser parte como feriante\, completá este formulario y sumate:\n https://forms.gle/oq4EkuaBAkv61MvH6 \n Buscamos sumar propuestas para las siguientes zonas: \n Zona Terapias:\nMasajes\, reiki\, registros akáshicos\, flores de Bach\, biomagnetismo y más. \n Zona Productos Conscientes:\nArtesanías\, cosmética natural\, cristales\, sahumerios\, plantas\, oráculos\, ropa holística. \n Zona Saberes:\nCharlas\, mini talleres\, espacios de conversación abierta\, libros. \n Zona Niñxs Conscientes:\nActividades holísticas para la infancia: yoga\, cuentos\, mandalas\, juegos conscientes. \n Zona Comida Viva:\nPropuestas veganas\, vegetarianas\, jugos naturales\, medicina ayurvédica\, fermentos. \n Zona Escénica / Ritual:\nShows acústicos\, danzas\, ceremonia de apertura y cierre\, momentos sagrados compartidos. \n Viví la transformación. En cada feria nos encontramos con almas despiertas que creen en otro modo de vivir\, crear y compartir. \n Si ya nos escribiste\, pronto nos comunicamos con vos.\n Si todavía no lo hiciste… ¡este es el momento! \nEquipo de la Movida Cultural y Holística. \n  \n(PD: TODAVÍA NO DIJIMOS FECHA- SERA JULIO!!!!…PARA EMPEZAR.)
URL:https://movidaculturalyholistica.com.ar/evento/%f0%9f%8c%9f-convocatoria-abierta-para-la-feria-holistica-en-movimiento-julio-%f0%9f%8c%9f/
LOCATION:ROLDAN\, En breve te enterás.\, ROLDAN\, SANTA FE\, 2134\, Argentina
CATEGORIES:FERIAS ITINERANTES,MOVIDA CULTURAL Y HOLISTICA
ORGANIZER;CN="MOVIDA CULTURAL Y HOLISTICA":MAILTO:movidaculturalyholistica@gmail.com
END:VEVENT
BEGIN:VEVENT
DTSTART;TZID=UTC:20250708T200000
DTEND;TZID=UTC:20250708T210000
DTSTAMP:20260425T075619
CREATED:20250625T143346Z
LAST-MODIFIED:20250703T224946Z
UID:1924-1752004800-1752008400@movidaculturalyholistica.com.ar
SUMMARY:🌟 ¡Julio llega con charlas en vivo y mucho para compartir! 🌱 -Mirá la AGENDA-
DESCRIPTION:Desde la Movida Cultural y Holística de Roldán y Alrededores seguimos creciendo\, conectando\, sembrando conciencia y expandiendo esta hermosa comunidad que ya se siente en cada rincón. \nY en julio\, damos un nuevo paso que nos llena de alegría:💬 comenzamos nuestras Charlas en Vivo a través de Instagram. \nVamos a encontrarnos cada semana con profesionales\, terapeutas\, artistas\, docentes\, guías y seres maravillosos que ya forman parte activa de esta movida. Conversaciones sinceras\, profundas\, enriquecedoras… para aprender juntos\, para reflexionar\, para abrir nuevos caminos\, y sobre todo\, para seguir construyendo comunidad desde el amor\, la cultura y la conciencia. \n✨ Hablaremos de salud holística\, arte\, emociones\, espiritualidad\, herramientas de autoconocimiento\, alimentación consciente\, crianza\, bienestar\, saberes ancestrales y mucho más.✨ Nos acompañarán personas con vocación\, experiencia y un mensaje claro: compartir lo que saben para ayudar a otros a despertar\, sanar y transformar. \n📲 Por eso\, te invitamos a seguirnos en Instagram si todavía no lo hiciste.En julio abrimos este nuevo espacio de conexión\, palabra y sabiduría colectiva. \n🔗 Buscanos como @movidaculturalyholistica💚 Activá las notificaciones para no perderte ninguna charla.💬 Comentá\, preguntá\, participá… la Movida la hacemos entre todos! \n🌟 ¡Estén atentos! YA TENEMOS AGENDA DE JULIO!!!! – SALIMOS DESDE INSTAGRAM EN VIVO!!!! \n——————— \nAGENDA \n8/7 – NOE CON LOS ANGELES – 20HS \n10/7- MARTIN GUISEN LEIBOVICH -TAROT DE AUTOCONOCIMIENTO – 21:30HS \n15/7 – DRA. PATRICIA RAMOS – CHAMANISMO – 20HS \n17/7- MARTA MARTINEZ – PAREJA\, EXITO\, TRABAJO\, ETC – 21HS \n22/7 -LEON MEOTTO -MAESTRÍAS CRISTALINAS – 20 HS \n24/7 – MARIA TERESA CAILLET BOIS  (TECHI)- “MI CAMINO CON LAS PLANTAS: SABERES VIVOS PARA SANARSE Y CUIDAR EL PLANETA”- 21 HS \n29/7 – A CONFIRMAR. ESPERANDO A LA PROFESIONAL. \n31/7 – ARMONIA INTERIOR – ARMONIZACIÓN\, MANIFESTAR\, ETC – DIRCE Y PACHA (CON ELLOS YA EMPEZAMOS NUESTROS EVENTOS EN LA MOVIDA) – 21 HS
URL:https://movidaculturalyholistica.com.ar/evento/%f0%9f%8c%9f-julio-llega-con-charlas-en-vivo-y-mucho-para-compartir-%f0%9f%8c%b1/
LOCATION:SANTA FE
CATEGORIES:CHARLAS EN VIVO,MOVIDA CULTURAL Y HOLISTICA
ORGANIZER;CN="MOVIDA CULTURAL Y HOLISTICA":MAILTO:movidaculturalyholistica@gmail.com
END:VEVENT
BEGIN:VEVENT
DTSTART;TZID=UTC:20250710T213000
DTEND;TZID=UTC:20250710T223000
DTSTAMP:20260425T075619
CREATED:20250709T195459Z
LAST-MODIFIED:20250709T210347Z
UID:1981-1752183000-1752186600@movidaculturalyholistica.com.ar
SUMMARY:🔮 TAROT Y AUTOCONOCIMIENTO con Martín Guisen Leibovich
DESCRIPTION:📅 Jueves 10 de julio – 21:30 hs📲 En VIVO por Instagram @movidaculturalyholistica \nUn encuentro transformador para quienes quieren mirar hacia adentro y descubrir los mensajes que el tarot tiene para su camino personal. 🌿✨ \n💬 Vamos a hablar del tarot como herramienta de autoconocimiento\, sanación y guía.Si buscás claridad\, dirección o estás en pleno proceso de transformación\, esta charla es para vos. \n✨ Sumate a este vivo que promete magia\, sabiduría y mucha conexión.🌀 Compartilo\, invitá a quienes sientas que lo necesitan…¡Y no te lo pierdas! \n#TarotConsciente #Autoconocimiento #MartínGuisenLeibovich #LaMovidaCulturalYHolística #VivoEnInstagram #JuevesMágico
URL:https://movidaculturalyholistica.com.ar/evento/%f0%9f%94%ae-tarot-y-autoconocimiento-con-martin-guisen-leibovich/
LOCATION:SANTA FE
CATEGORIES:MOVIDA CULTURAL Y HOLISTICA,TAROT
END:VEVENT
BEGIN:VEVENT
DTSTART;TZID=UTC:20250715T200000
DTEND;TZID=UTC:20250715T210000
DTSTAMP:20260425T075619
CREATED:20250709T200835Z
LAST-MODIFIED:20250709T210237Z
UID:1984-1752609600-1752613200@movidaculturalyholistica.com.ar
SUMMARY:🌿✨ CHAMANISMO con la Dra. Patricia Ramos
DESCRIPTION:📅 Martes 15 de julio – 20 hs📲 EN VIVO por Instagram @movidaculturalyholistica \n¿Sentís el llamado de lo ancestral?¿Querés reconectar con tu esencia\, la naturaleza y el poder de lo invisible? \nEste martes viví una charla transformadora junto a la Dra. Patricia Ramos\, médica y facilitadora de caminos chamánicos\, donde exploraremos el chamanismo como vía de autoconocimiento\, sanación y sabiduría espiritual. \n🔥 Hablaremos sobre:\n— Los guías espirituales— El poder de los rituales— Plantas sagradas y conciencia expandida— Cómo integrar el chamanismo en la vida diaria \n💜 Sumate a esta experiencia única con La Movida Cultural y Holística\, donde ciencia y espíritu se dan la mano para despertar. \n🌀 ¡Compartilo\, agendalo y preparate para abrir portales internos!#Chamanismo #SanaciónAncestral #PatriciaRamos #LaMovidaCulturalYHolística #CulturaConsciente #VivoPorInstagram
URL:https://movidaculturalyholistica.com.ar/evento/%f0%9f%8c%bf%e2%9c%a8-chamanismo-con-la-dra-patricia-ramos/
LOCATION:SANTA FE
CATEGORIES:CHAMANISMO,MOVIDA CULTURAL Y HOLISTICA
END:VEVENT
BEGIN:VEVENT
DTSTART;TZID=UTC:20250717T210000
DTEND;TZID=UTC:20250717T220000
DTSTAMP:20260425T075619
CREATED:20250709T210651Z
LAST-MODIFIED:20250709T210651Z
UID:1991-1752786000-1752789600@movidaculturalyholistica.com.ar
SUMMARY:💫 PAREJA\, ÉXITO Y TRABAJO desde la mirada de las CONSTELACIONES
DESCRIPTION:📅 Jueves 17 de julio – 21 hs📲 EN VIVO por Instagram @movidaculturalyholistica \nEste jueves te invitamos a un encuentro revelador con Marta Martínez\, terapeuta en constelaciones familiares y facilitadora de procesos de transformación personal. \n🌿 Vamos a hablar de temas que nos atraviesan todos los días:❤️ Las relaciones de pareja🌟 El éxito y la abundancia💼 El trabajo y el propósito🌀 Y cómo todo esto se ordena desde la mirada sistémica de las constelaciones. \n¿Sentís que hay algo que se repite en tu vida?¿Querés entender por qué algunas áreas no fluyen?¿Buscás respuestas más profundas? \nEntonces este vivo es para vos. Marta nos va a compartir herramientas\, casos reales y una mirada clara para empezar a cambiar desde adentro hacia afuera. \n✨ Sumate\, compartí\, y abrí la puerta a una nueva comprensión de tu historia. \n#ConstelacionesFamiliares #MartaMartínez #ParejaYÉxito #CulturaConsciente #MovidaCulturalYHolística #Autoconocimiento #VivoPorInstagram
URL:https://movidaculturalyholistica.com.ar/evento/%f0%9f%92%ab-pareja-exito-y-trabajo-desde-la-mirada-de-las-constelaciones/
LOCATION:SANTA FE
CATEGORIES:CONSTELACIONES,MOVIDA CULTURAL Y HOLISTICA
END:VEVENT
BEGIN:VEVENT
DTSTART;TZID=UTC:20250722T200000
DTEND;TZID=UTC:20250722T210000
DTSTAMP:20260425T075619
CREATED:20250709T215041Z
LAST-MODIFIED:20250709T215041Z
UID:1993-1753214400-1753218000@movidaculturalyholistica.com.ar
SUMMARY:💎✨ CRISTALES Y ENERGÍA con León Meotto
DESCRIPTION:📅 Martes 22 de julio – 20 hs📲 EN VIVO por Instagram @movidaculturalyholistica \n¿Sabías que los cristales son mucho más que piedras lindas?Cada uno vibra con una frecuencia única capaz de armonizar\, proteger y potenciar tu energía. 💫 \nEste martes\, nos encontramos con León Meotto\, facilitador y estudioso del mundo cristalino\, para una charla mágica y reveladora.Vamos a descubrir:🔮 Cómo elegir tus cristales🧘‍♀️ Cómo activarlos y usarlos en tu vida diaria🌈 Cristales para sanar\, meditar\, limpiar espacios y abrir caminos \nUn vivo lleno de luz\, sabiduría ancestral y conexión energética. \n🌟 ¡Sumate\, compartí\, y dejá que los cristales hablen!#Cristales #SanaciónEnergética #LeónMeotto #MovidaCulturalYHolística #VivoPorInstagram #CulturaConsciente
URL:https://movidaculturalyholistica.com.ar/evento/%f0%9f%92%8e%e2%9c%a8-cristales-y-energia-con-leon-meotto/
LOCATION:SANTA FE
CATEGORIES:CRISTALES,MOVIDA CULTURAL Y HOLISTICA
END:VEVENT
BEGIN:VEVENT
DTSTART;TZID=UTC:20250724T210000
DTEND;TZID=UTC:20250724T220000
DTSTAMP:20260425T075619
CREATED:20250709T221704Z
LAST-MODIFIED:20250709T221704Z
UID:1996-1753390800-1753394400@movidaculturalyholistica.com.ar
SUMMARY:🌿✨ MI CAMINO CON LAS PLANTAS
DESCRIPTION:Saberes vivos para sanarse y cuidar el planeta📅 JUEVESPL 24 de julio – 21 hs📲 EN VIVO por Instagram @movidaculturalyholistica \nTe invitamos a un encuentro profundo y sanador con María Teresa Caillet Bois\, mujer medicina\, maestra y guardiana de los saberes ancestrales del reino vegetal. \n💚 Vamos a conversar sobre:🍃 La conexión con las plantas como seres vivos🌱 El uso consciente de sus propiedades para sanar cuerpo\, mente y espíritu🌍 El rol sagrado que tienen en la protección del planeta y en nuestra evolución \nUna noche para abrir el corazón\, recordar lo que la tierra nos susurra y reconectar con el poder sanador de la naturaleza. \n🌸 Sumate a esta charla que promete ser semilla\, medicina y despertar.#PlantasSagradas #SaberesAncestrales #SanaciónNatural #MaríaTeresaCailletBois #MovidaCulturalYHolística #CulturaConsciente #VivoPorInstagram
URL:https://movidaculturalyholistica.com.ar/evento/%f0%9f%8c%bf%e2%9c%a8-mi-camino-con-las-plantas/
LOCATION:SANTA FE
CATEGORIES:MOVIDA CULTURAL Y HOLISTICA,PLANETA,PLANTAS,SABERES
END:VEVENT
BEGIN:VEVENT
DTSTART;TZID=UTC:20250729T200000
DTEND;TZID=UTC:20250729T210000
DTSTAMP:20260425T075619
CREATED:20250726T153409Z
LAST-MODIFIED:20250726T153409Z
UID:2064-1753819200-1753822800@movidaculturalyholistica.com.ar
SUMMARY:¿Qué es la Biodanza?
DESCRIPTION:La Biodanza es un sistema de integración humana que utiliza la música\, el movimiento y el encuentro con otr@s para despertar la alegría de vivir\, reconectar con nuestras emociones y volver al cuerpo como puente hacia lo esencial. \nNo se trata de “bailar bien” ni de aprender coreografías. Se trata de sentir\, de permitir que el cuerpo se exprese libremente\, de habilitar la ternura\, la vitalidad\, la conexión auténtica con uno mismo y con los demás. A través de secuencias de danzas guiadas\, la Biodanza activa nuestras potencialidades dormidas: el amor\, la creatividad\, la empatía\, la afectividad y la trascendencia. \nEs una práctica transformadora que nos devuelve al presente\, al placer de estar vivos\, al vínculo sincero con el otro y con la vida misma. \n✨ Este martes 29 de julio a las 20 hs te invitamos a una charla profunda y vivencial junto a Sebastián Sanguineti\, facilitador de Biodanza\, que nos va a contar cómo esta práctica puede convertirse en un camino de sanación\, encuentro y expansión. \n📲 En vivo por Instagram\, desde la cuenta de La Movida Cultural y Holística.¡Te esperamos para mover el alma! 💜
URL:https://movidaculturalyholistica.com.ar/evento/que-es-la-biodanza/
LOCATION:SANTA FE
CATEGORIES:BIODANZA,MOVIDA CULTURAL Y HOLISTICA
END:VEVENT
BEGIN:VEVENT
DTSTART;TZID=UTC:20250731T210000
DTEND;TZID=UTC:20250731T220000
DTSTAMP:20260425T075619
CREATED:20250726T160520Z
LAST-MODIFIED:20250726T160520Z
UID:2068-1753995600-1753999200@movidaculturalyholistica.com.ar
SUMMARY:✨ Cerramos julio con broche de oro ✨
DESCRIPTION:Este Jueves 31 a las 21 hs\, viví una charla imperdible en vivo por Instagram junto a dos seres que vibran muy alto: Dirce y Pacha 🌿💫 \n💚 Ellos llegan con toda su sabiduría\, sensibilidad y conexión para compartir un encuentro lleno de magia\, consciencia y amor por la vida. \n🌕 Hablaremos de caminos espirituales\, vínculos sagrados\, procesos internos y cómo sostener la luz en tiempos de cambio. \n🌟 Si sentís que algo en vos está despertando… esta charla es para vos.🌀 Si buscás inspiración\, verdad y comunidad… esta charla también es para vos. \n💫 Y como hermoso recordatorio: con Dirce y Pacha dimos el primer paso de la Movida en el evento presencial del 21 de junio.¡Volvemos a encontrarnos para seguir expandiendo juntos! \n🗓 Miércoles 31 de julio – 21 hs📍 En vivo por Instagram [@lamovidaculturalyholistica] \n💬 Comentá\, compartí y agendalo… porque no te lo podés perder.Dirce y Pacha cierran julio con el corazón abierto… ¡y vos estás invitad@!
URL:https://movidaculturalyholistica.com.ar/evento/%e2%9c%a8-cerramos-julio-con-broche-de-oro-%e2%9c%a8/
LOCATION:SANTA FE
CATEGORIES:ARMONIA INTERIOR,MOVIDA CULTURAL Y HOLISTICA
END:VEVENT
END:VCALENDAR